Package: Uniquorn Version: 2.27.0 Command: rm -rf Uniquorn.buildbin-libdir && mkdir Uniquorn.buildbin-libdir && /Users/biocbuild/BBS/utils/build-universal.sh Uniquorn_2.27.0.tar.gz /Library/Frameworks/R.framework/Resources/bin/R Uniquorn.buildbin-libdir StartedAt: 2025-02-09 22:34:24 -0500 (Sun, 09 Feb 2025) EndedAt: 2025-02-09 22:34:42 -0500 (Sun, 09 Feb 2025) EllapsedTime: 17.3 seconds RetCode: 0 Status: OK PackageFile: Uniquorn_2.27.0.tgz PackageFileSize: 2.322 MiB