Package: Uniquorn Version: 2.27.0 Command: /home/biocbuild/R/R/bin/R CMD INSTALL Uniquorn StartedAt: 2025-01-29 19:56:10 -0000 (Wed, 29 Jan 2025) EndedAt: 2025-01-29 19:57:04 -0000 (Wed, 29 Jan 2025) EllapsedTime: 53.7 seconds RetCode: 0 Status: OK