Package: Uniquorn Version: 2.27.0 Command: rm -rf Uniquorn.buildbin-libdir && mkdir Uniquorn.buildbin-libdir && /Users/biocbuild/BBS/utils/build-universal.sh Uniquorn_2.27.0.tar.gz /Library/Frameworks/R.framework/Resources/bin/R Uniquorn.buildbin-libdir StartedAt: 2025-02-10 01:21:50 -0500 (Mon, 10 Feb 2025) EndedAt: 2025-02-10 01:22:48 -0500 (Mon, 10 Feb 2025) EllapsedTime: 58.1 seconds RetCode: 0 Status: OK PackageFile: Uniquorn_2.27.0.tgz PackageFileSize: 2.321 MiB