Package: Uniquorn Version: 2.27.0 Command: /home/biocbuild/bbs-3.21-bioc/R/bin/R CMD INSTALL Uniquorn StartedAt: 2025-02-09 15:39:29 -0500 (Sun, 09 Feb 2025) EndedAt: 2025-02-09 15:40:10 -0500 (Sun, 09 Feb 2025) EllapsedTime: 41.1 seconds RetCode: 0 Status: OK