Package: Uniquorn Version: 2.27.0 Command: rm -rf Uniquorn.buildbin-libdir && mkdir Uniquorn.buildbin-libdir && E:\biocbuild\bbs-3.21-bioc\R\bin\R.exe CMD INSTALL --build --library=Uniquorn.buildbin-libdir Uniquorn_2.27.0.tar.gz StartedAt: 2025-02-10 08:55:42 -0500 (Mon, 10 Feb 2025) EndedAt: 2025-02-10 08:56:44 -0500 (Mon, 10 Feb 2025) EllapsedTime: 61.4 seconds RetCode: 0 Status: OK PackageFile: Uniquorn_2.27.0.zip PackageFileSize: 2.275 MiB