Package: VAExprs Version: 1.13.0 Command: /Library/Frameworks/R.framework/Resources/bin/R CMD build --keep-empty-dirs --no-resave-data VAExprs StartedAt: 2025-02-09 18:48:18 -0500 (Sun, 09 Feb 2025) EndedAt: 2025-02-09 18:49:25 -0500 (Sun, 09 Feb 2025) EllapsedTime: 66.4 seconds RetCode: 1 Status: ERROR PackageFile: None PackageFileSize: NA