Package: VAExprs Version: 1.13.0 Command: chmod a+r VAExprs -R && E:\biocbuild\bbs-3.21-bioc\R\bin\R.exe CMD build --keep-empty-dirs --no-resave-data VAExprs StartedAt: 2025-02-09 22:14:34 -0500 (Sun, 09 Feb 2025) EndedAt: 2025-02-09 22:15:39 -0500 (Sun, 09 Feb 2025) EllapsedTime: 65.3 seconds RetCode: 1 Status: ERROR PackageFile: None PackageFileSize: NA