Package: VCFArray Version: 1.23.0 Command: /home/biocbuild/R/R/bin/R CMD check --install=check:VCFArray.install-out.txt --library=/home/biocbuild/R/R/site-library --no-vignettes --timings VCFArray_1.23.0.tar.gz StartedAt: 2025-01-27 13:49:53 -0000 (Mon, 27 Jan 2025) EndedAt: 2025-01-27 13:57:20 -0000 (Mon, 27 Jan 2025) EllapsedTime: 446.8 seconds RetCode: 0 Status: OK CheckDir: VCFArray.Rcheck Warnings: 0