Package: VCFArray Version: 1.23.0 Command: /Library/Frameworks/R.framework/Resources/bin/R CMD build --keep-empty-dirs --no-resave-data VCFArray StartedAt: 2025-02-12 18:40:34 -0500 (Wed, 12 Feb 2025) EndedAt: 2025-02-12 18:41:56 -0500 (Wed, 12 Feb 2025) EllapsedTime: 82.2 seconds RetCode: 0 Status: OK PackageFile: VCFArray_1.23.0.tar.gz PackageFileSize: 302.6 KiB