Package: VCFArray Version: 1.23.0 Command: /Library/Frameworks/R.framework/Resources/bin/R CMD check --install=check:VCFArray.install-out.txt --library=/Library/Frameworks/R.framework/Resources/library --no-vignettes --timings VCFArray_1.23.0.tar.gz StartedAt: 2025-02-10 00:19:27 -0500 (Mon, 10 Feb 2025) EndedAt: 2025-02-10 00:24:52 -0500 (Mon, 10 Feb 2025) EllapsedTime: 325.7 seconds RetCode: 0 Status: OK CheckDir: VCFArray.Rcheck Warnings: 0