Package: VCFArray Version: 1.23.0 Command: chmod a+r VCFArray -R && E:\biocbuild\bbs-3.21-bioc\R\bin\R.exe CMD build --keep-empty-dirs --no-resave-data VCFArray StartedAt: 2025-02-12 22:22:31 -0500 (Wed, 12 Feb 2025) EndedAt: 2025-02-12 22:24:05 -0500 (Wed, 12 Feb 2025) EllapsedTime: 93.6 seconds RetCode: 0 Status: OK PackageFile: VCFArray_1.23.0.tar.gz PackageFileSize: 302.9 KiB