Package: VCFArray Version: 1.23.0 Command: E:\biocbuild\bbs-3.21-bioc\R\bin\R.exe CMD check --no-multiarch --install=check:VCFArray.install-out.txt --library=E:\biocbuild\bbs-3.21-bioc\R\library --no-vignettes --timings VCFArray_1.23.0.tar.gz StartedAt: 2025-02-10 06:29:09 -0500 (Mon, 10 Feb 2025) EndedAt: 2025-02-10 06:34:49 -0500 (Mon, 10 Feb 2025) EllapsedTime: 340.4 seconds RetCode: 0 Status: OK CheckDir: VCFArray.Rcheck Warnings: 0