Package: VCFArray Version: 1.23.0 Command: E:\biocbuild\bbs-3.21-bioc\R\bin\R.exe CMD INSTALL VCFArray StartedAt: 2025-02-12 16:33:22 -0500 (Wed, 12 Feb 2025) EndedAt: 2025-02-12 16:34:19 -0500 (Wed, 12 Feb 2025) EllapsedTime: 56.7 seconds RetCode: 0 Status: OK