Package: VDJdive Version: 1.9.0 Command: /home/biocbuild/R/R/bin/R CMD build --keep-empty-dirs --no-resave-data VDJdive StartedAt: 2025-01-28 03:07:43 -0000 (Tue, 28 Jan 2025) EndedAt: 2025-01-28 03:08:40 -0000 (Tue, 28 Jan 2025) EllapsedTime: 57.0 seconds RetCode: 0 Status: OK PackageFile: VDJdive_1.9.0.tar.gz PackageFileSize: 465.1 KiB