Package: VDJdive Version: 1.9.0 Command: /home/biocbuild/R/R/bin/R CMD check --install=check:VDJdive.install-out.txt --library=/home/biocbuild/R/R/site-library --no-vignettes --timings VDJdive_1.9.0.tar.gz StartedAt: 2025-01-27 13:50:17 -0000 (Mon, 27 Jan 2025) EndedAt: 2025-01-27 13:56:05 -0000 (Mon, 27 Jan 2025) EllapsedTime: 347.7 seconds RetCode: 0 Status: OK CheckDir: VDJdive.Rcheck Warnings: 0