Package: VDJdive Version: 1.9.0 Command: rm -rf VDJdive.buildbin-libdir && mkdir VDJdive.buildbin-libdir && /Users/biocbuild/BBS/utils/build-universal.sh VDJdive_1.9.0.tar.gz /Library/Frameworks/R.framework/Resources/bin/R VDJdive.buildbin-libdir StartedAt: 2025-02-10 01:21:59 -0500 (Mon, 10 Feb 2025) EndedAt: 2025-02-10 01:22:35 -0500 (Mon, 10 Feb 2025) EllapsedTime: 36.0 seconds RetCode: 0 Status: OK PackageFile: VDJdive_1.9.0.tgz PackageFileSize: 876.8 KiB