Package: VDJdive Version: 1.9.0 Command: /home/biocbuild/bbs-3.21-bioc/R/bin/R CMD build --keep-empty-dirs --no-resave-data VDJdive StartedAt: 2025-02-04 19:40:45 -0500 (Tue, 04 Feb 2025) EndedAt: 2025-02-04 19:41:25 -0500 (Tue, 04 Feb 2025) EllapsedTime: 39.1 seconds RetCode: 0 Status: OK PackageFile: VDJdive_1.9.0.tar.gz PackageFileSize: 550.8 KiB