Package: VDJdive Version: 1.9.0 Command: /home/biocbuild/bbs-3.21-bioc/R/bin/R CMD check --install=check:VDJdive.install-out.txt --library=/home/biocbuild/bbs-3.21-bioc/R/site-library --timings VDJdive_1.9.0.tar.gz StartedAt: 2025-02-10 03:40:44 -0500 (Mon, 10 Feb 2025) EndedAt: 2025-02-10 03:44:29 -0500 (Mon, 10 Feb 2025) EllapsedTime: 225.3 seconds RetCode: 0 Status: OK CheckDir: VDJdive.Rcheck Warnings: 0