Package: VDJdive Version: 1.9.0 Command: /home/biocbuild/bbs-3.21-bioc/R/bin/R CMD INSTALL VDJdive StartedAt: 2025-02-09 15:31:58 -0500 (Sun, 09 Feb 2025) EndedAt: 2025-02-09 15:32:23 -0500 (Sun, 09 Feb 2025) EllapsedTime: 24.4 seconds RetCode: 0 Status: OK