Package: VDJdive Version: 1.9.0 Command: rm -rf VDJdive.buildbin-libdir && mkdir VDJdive.buildbin-libdir && E:\biocbuild\bbs-3.21-bioc\R\bin\R.exe CMD INSTALL --build --library=VDJdive.buildbin-libdir VDJdive_1.9.0.tar.gz StartedAt: 2025-02-10 08:56:06 -0500 (Mon, 10 Feb 2025) EndedAt: 2025-02-10 08:57:37 -0500 (Mon, 10 Feb 2025) EllapsedTime: 91.4 seconds RetCode: 0 Status: OK PackageFile: VDJdive_1.9.0.zip PackageFileSize: 1.037 MiB