Package: VDJdive Version: 1.9.0 Command: chmod a+r VDJdive -R && E:\biocbuild\bbs-3.21-bioc\R\bin\R.exe --arch x64 CMD build --keep-empty-dirs --no-resave-data VDJdive StartedAt: 2025-02-09 22:15:05 -0500 (Sun, 09 Feb 2025) EndedAt: 2025-02-09 22:16:07 -0500 (Sun, 09 Feb 2025) EllapsedTime: 61.9 seconds RetCode: 0 Status: OK PackageFile: VDJdive_1.9.0.tar.gz PackageFileSize: 424.8 KiB