Package: VanillaICE Version: 1.69.0 Command: /Library/Frameworks/R.framework/Resources/bin/R CMD build --keep-empty-dirs --no-resave-data VanillaICE StartedAt: 2025-02-04 18:39:47 -0500 (Tue, 04 Feb 2025) EndedAt: 2025-02-04 18:39:49 -0500 (Tue, 04 Feb 2025) EllapsedTime: 2.3 seconds RetCode: 1 Status: ERROR PackageFile: None PackageFileSize: NA