Package: VanillaICE Version: 1.69.0 Command: /Library/Frameworks/R.framework/Resources/bin/R CMD INSTALL VanillaICE StartedAt: 2025-02-04 15:18:58 -0500 (Tue, 04 Feb 2025) EndedAt: 2025-02-04 15:18:59 -0500 (Tue, 04 Feb 2025) EllapsedTime: 1.5 seconds RetCode: 1 Status: ERROR