Package: VanillaICE Version: 1.69.0 Command: /home/biocbuild/bbs-3.21-bioc/R/bin/R CMD check --install=check:VanillaICE.install-out.txt --library=/home/biocbuild/bbs-3.21-bioc/R/site-library --timings VanillaICE_1.69.0.tar.gz StartedAt: 2025-01-22 03:27:47 -0500 (Wed, 22 Jan 2025) EndedAt: 2025-01-22 03:32:26 -0500 (Wed, 22 Jan 2025) EllapsedTime: 279.3 seconds RetCode: 0 Status: OK CheckDir: VanillaICE.Rcheck Warnings: 0