Package: VanillaICE Version: 1.69.0 Command: /home/biocbuild/bbs-3.21-bioc/R/bin/R CMD INSTALL VanillaICE StartedAt: 2025-02-09 15:33:38 -0500 (Sun, 09 Feb 2025) EndedAt: 2025-02-09 15:33:39 -0500 (Sun, 09 Feb 2025) EllapsedTime: 1.2 seconds RetCode: 1 Status: ERROR