Package: VanillaICE Version: 1.69.0 Command: rm -rf VanillaICE.buildbin-libdir && mkdir VanillaICE.buildbin-libdir && E:\biocbuild\bbs-3.21-bioc\R\bin\R.exe CMD INSTALL --build --library=VanillaICE.buildbin-libdir VanillaICE_1.69.0.tar.gz StartedAt: 2025-01-22 08:48:01 -0500 (Wed, 22 Jan 2025) EndedAt: 2025-01-22 08:50:54 -0500 (Wed, 22 Jan 2025) EllapsedTime: 173.7 seconds RetCode: 0 Status: OK PackageFile: VanillaICE_1.69.0.zip PackageFileSize: 2.725 MiB