Package: VanillaICE Version: 1.69.0 Command: chmod a+r VanillaICE -R && E:\biocbuild\bbs-3.21-bioc\R\bin\R.exe CMD build --keep-empty-dirs --no-resave-data VanillaICE StartedAt: 2025-02-04 22:16:51 -0500 (Tue, 04 Feb 2025) EndedAt: 2025-02-04 22:16:56 -0500 (Tue, 04 Feb 2025) EllapsedTime: 5.0 seconds RetCode: 1 Status: ERROR PackageFile: None PackageFileSize: NA