Package: VanillaICE Version: 1.69.0 Command: E:\biocbuild\bbs-3.21-bioc\R\bin\R.exe CMD INSTALL VanillaICE StartedAt: 2025-02-04 16:03:14 -0500 (Tue, 04 Feb 2025) EndedAt: 2025-02-04 16:03:15 -0500 (Tue, 04 Feb 2025) EllapsedTime: 0.9 seconds RetCode: 1 Status: ERROR