Package: VarCon Version: 1.15.0 Command: /Library/Frameworks/R.framework/Resources/bin/R CMD build --keep-empty-dirs --no-resave-data VarCon StartedAt: 2025-02-09 17:52:24 -0500 (Sun, 09 Feb 2025) EndedAt: 2025-02-09 17:52:46 -0500 (Sun, 09 Feb 2025) EllapsedTime: 22.3 seconds RetCode: 0 Status: OK PackageFile: VarCon_1.15.0.tar.gz PackageFileSize: 1.89 MiB