Package: VarCon Version: 1.15.0 Command: /home/biocbuild/R/R/bin/R CMD INSTALL VarCon StartedAt: 2025-01-29 20:06:20 -0000 (Wed, 29 Jan 2025) EndedAt: 2025-01-29 20:07:13 -0000 (Wed, 29 Jan 2025) EllapsedTime: 53.8 seconds RetCode: 0 Status: OK