Package: VarCon Version: 1.15.0 Command: rm -rf VarCon.buildbin-libdir && mkdir VarCon.buildbin-libdir && /Users/biocbuild/BBS/utils/build-universal.sh VarCon_1.15.0.tar.gz /Library/Frameworks/R.framework/Resources/bin/R VarCon.buildbin-libdir StartedAt: 2025-02-10 01:21:54 -0500 (Mon, 10 Feb 2025) EndedAt: 2025-02-10 01:22:52 -0500 (Mon, 10 Feb 2025) EllapsedTime: 58.0 seconds RetCode: 0 Status: OK PackageFile: VarCon_1.15.0.tgz PackageFileSize: 2.013 MiB