Package: VarCon Version: 1.15.0 Command: /Library/Frameworks/R.framework/Resources/bin/R CMD check --install=check:VarCon.install-out.txt --library=/Library/Frameworks/R.framework/Resources/library --no-vignettes --timings VarCon_1.15.0.tar.gz StartedAt: 2025-02-10 00:18:43 -0500 (Mon, 10 Feb 2025) EndedAt: 2025-02-10 00:23:31 -0500 (Mon, 10 Feb 2025) EllapsedTime: 287.8 seconds RetCode: 0 Status: OK CheckDir: VarCon.Rcheck Warnings: 0