Package: VarCon Version: 1.15.0 Command: /Library/Frameworks/R.framework/Resources/bin/R CMD INSTALL VarCon StartedAt: 2025-02-09 15:25:16 -0500 (Sun, 09 Feb 2025) EndedAt: 2025-02-09 15:26:09 -0500 (Sun, 09 Feb 2025) EllapsedTime: 53.3 seconds RetCode: 0 Status: OK