Package: VarCon Version: 1.15.0 Command: /home/biocbuild/bbs-3.21-bioc/R/bin/R CMD build --keep-empty-dirs --no-resave-data VarCon StartedAt: 2025-02-09 19:42:39 -0500 (Sun, 09 Feb 2025) EndedAt: 2025-02-09 19:43:30 -0500 (Sun, 09 Feb 2025) EllapsedTime: 51.1 seconds RetCode: 0 Status: OK PackageFile: VarCon_1.15.0.tar.gz PackageFileSize: 1.89 MiB