Package: VarCon Version: 1.15.0 Command: /home/biocbuild/bbs-3.21-bioc/R/bin/R CMD check --install=check:VarCon.install-out.txt --library=/home/biocbuild/bbs-3.21-bioc/R/site-library --timings VarCon_1.15.0.tar.gz StartedAt: 2025-02-10 03:39:01 -0500 (Mon, 10 Feb 2025) EndedAt: 2025-02-10 03:43:26 -0500 (Mon, 10 Feb 2025) EllapsedTime: 264.3 seconds RetCode: 0 Status: OK CheckDir: VarCon.Rcheck Warnings: 0