Package: VarCon Version: 1.15.0 Command: rm -rf VarCon.buildbin-libdir && mkdir VarCon.buildbin-libdir && E:\biocbuild\bbs-3.21-bioc\R\bin\R.exe CMD INSTALL --build --library=VarCon.buildbin-libdir VarCon_1.15.0.tar.gz StartedAt: 2025-02-11 09:10:29 -0500 (Tue, 11 Feb 2025) EndedAt: 2025-02-11 09:11:21 -0500 (Tue, 11 Feb 2025) EllapsedTime: 51.9 seconds RetCode: 0 Status: OK PackageFile: VarCon_1.15.0.zip PackageFileSize: 1.992 MiB