Package: VarCon Version: 1.15.0 Command: chmod a+r VarCon -R && E:\biocbuild\bbs-3.21-bioc\R\bin\R.exe CMD build --keep-empty-dirs --no-resave-data VarCon StartedAt: 2025-02-10 22:26:36 -0500 (Mon, 10 Feb 2025) EndedAt: 2025-02-10 22:27:46 -0500 (Mon, 10 Feb 2025) EllapsedTime: 70.3 seconds RetCode: 0 Status: OK PackageFile: VarCon_1.15.0.tar.gz PackageFileSize: 1.889 MiB