Package: VarCon Version: 1.15.0 Command: E:\biocbuild\bbs-3.21-bioc\R\bin\R.exe CMD check --no-multiarch --install=check:VarCon.install-out.txt --library=E:\biocbuild\bbs-3.21-bioc\R\library --no-vignettes --timings VarCon_1.15.0.tar.gz StartedAt: 2025-02-11 06:41:23 -0500 (Tue, 11 Feb 2025) EndedAt: 2025-02-11 06:46:20 -0500 (Tue, 11 Feb 2025) EllapsedTime: 297.4 seconds RetCode: 0 Status: OK CheckDir: VarCon.Rcheck Warnings: 0