Package: VariantAnnotation Version: 1.53.1 Command: rm -rf VariantAnnotation.buildbin-libdir && mkdir VariantAnnotation.buildbin-libdir && /Users/biocbuild/BBS/utils/build-universal.sh VariantAnnotation_1.53.1.tar.gz /Library/Frameworks/R.framework/Resources/bin/R VariantAnnotation.buildbin-libdir StartedAt: 2025-02-05 22:39:19 -0500 (Wed, 05 Feb 2025) EndedAt: 2025-02-05 22:39:52 -0500 (Wed, 05 Feb 2025) EllapsedTime: 32.7 seconds RetCode: 0 Status: OK PackageFile: VariantAnnotation_1.53.1.tgz PackageFileSize: 4.368 MiB