Package: VariantAnnotation Version: 1.53.1 Command: /home/biocbuild/R/R/bin/R CMD build --keep-empty-dirs --no-resave-data VariantAnnotation StartedAt: 2025-01-28 03:06:40 -0000 (Tue, 28 Jan 2025) EndedAt: 2025-01-28 03:10:17 -0000 (Tue, 28 Jan 2025) EllapsedTime: 217.1 seconds RetCode: 0 Status: OK PackageFile: VariantAnnotation_1.53.1.tar.gz PackageFileSize: 2.055 MiB