Package: VariantAnnotation Version: 1.53.1 Command: /home/biocbuild/R/R/bin/R CMD check --install=check:VariantAnnotation.install-out.txt --library=/home/biocbuild/R/R/site-library --no-vignettes --timings VariantAnnotation_1.53.1.tar.gz StartedAt: 2025-01-27 13:48:14 -0000 (Mon, 27 Jan 2025) EndedAt: 2025-01-27 14:01:06 -0000 (Mon, 27 Jan 2025) EllapsedTime: 772.4 seconds RetCode: 0 Status: WARNINGS CheckDir: VariantAnnotation.Rcheck Warnings: 2