Package: VariantAnnotation Version: 1.53.1 Command: /home/biocbuild/R/R/bin/R CMD INSTALL VariantAnnotation StartedAt: 2025-01-29 19:54:17 -0000 (Wed, 29 Jan 2025) EndedAt: 2025-01-29 19:55:58 -0000 (Wed, 29 Jan 2025) EllapsedTime: 100.5 seconds RetCode: 0 Status: OK