Package: VariantAnnotation Version: 1.53.1 Command: /Library/Frameworks/R.framework/Resources/bin/R CMD build --keep-empty-dirs --no-resave-data VariantAnnotation StartedAt: 2025-02-05 18:39:46 -0500 (Wed, 05 Feb 2025) EndedAt: 2025-02-05 18:42:48 -0500 (Wed, 05 Feb 2025) EllapsedTime: 181.5 seconds RetCode: 0 Status: OK PackageFile: VariantAnnotation_1.53.1.tar.gz PackageFileSize: 2.023 MiB