Package: VariantAnnotation Version: 1.53.1 Command: /Library/Frameworks/R.framework/Resources/bin/R CMD check --install=check:VariantAnnotation.install-out.txt --library=/Library/Frameworks/R.framework/Resources/library --no-vignettes --timings VariantAnnotation_1.53.1.tar.gz StartedAt: 2025-02-04 23:59:27 -0500 (Tue, 04 Feb 2025) EndedAt: 2025-02-05 00:09:02 -0500 (Wed, 05 Feb 2025) EllapsedTime: 575.3 seconds RetCode: 0 Status: WARNINGS CheckDir: VariantAnnotation.Rcheck Warnings: 2