Package: VariantAnnotation Version: 1.53.1 Command: /home/biocbuild/bbs-3.21-bioc/R/bin/R CMD build --keep-empty-dirs --no-resave-data VariantAnnotation StartedAt: 2025-02-04 19:40:10 -0500 (Tue, 04 Feb 2025) EndedAt: 2025-02-04 19:42:46 -0500 (Tue, 04 Feb 2025) EllapsedTime: 155.2 seconds RetCode: 0 Status: OK PackageFile: VariantAnnotation_1.53.1.tar.gz PackageFileSize: 2.045 MiB