Package: VariantAnnotation Version: 1.53.1 Command: /home/biocbuild/bbs-3.21-bioc/R/bin/R CMD INSTALL VariantAnnotation StartedAt: 2025-02-05 15:37:30 -0500 (Wed, 05 Feb 2025) EndedAt: 2025-02-05 15:38:41 -0500 (Wed, 05 Feb 2025) EllapsedTime: 71.1 seconds RetCode: 0 Status: OK