Package: VariantAnnotation Version: 1.53.1 Command: rm -rf VariantAnnotation.buildbin-libdir && mkdir VariantAnnotation.buildbin-libdir && E:\biocbuild\bbs-3.21-bioc\R\bin\R.exe CMD INSTALL --build --library=VariantAnnotation.buildbin-libdir VariantAnnotation_1.53.1.tar.gz StartedAt: 2025-02-06 09:16:28 -0500 (Thu, 06 Feb 2025) EndedAt: 2025-02-06 09:20:21 -0500 (Thu, 06 Feb 2025) EllapsedTime: 232.8 seconds RetCode: 0 Status: OK PackageFile: VariantAnnotation_1.53.1.zip PackageFileSize: 8.547 MiB