Package: VariantAnnotation Version: 1.53.1 Command: chmod a+r VariantAnnotation -R && E:\biocbuild\bbs-3.21-bioc\R\bin\R.exe CMD build --keep-empty-dirs --no-resave-data VariantAnnotation StartedAt: 2025-02-05 22:21:25 -0500 (Wed, 05 Feb 2025) EndedAt: 2025-02-05 22:26:37 -0500 (Wed, 05 Feb 2025) EllapsedTime: 311.6 seconds RetCode: 0 Status: OK PackageFile: VariantAnnotation_1.53.1.tar.gz PackageFileSize: 1.967 MiB