Package: VariantAnnotation Version: 1.53.1 Command: E:\biocbuild\bbs-3.21-bioc\R\bin\R.exe CMD check --no-multiarch --install=check:VariantAnnotation.install-out.txt --library=E:\biocbuild\bbs-3.21-bioc\R\library --no-vignettes --timings VariantAnnotation_1.53.1.tar.gz StartedAt: 2025-02-05 06:51:47 -0500 (Wed, 05 Feb 2025) EndedAt: 2025-02-05 07:02:04 -0500 (Wed, 05 Feb 2025) EllapsedTime: 616.7 seconds RetCode: 0 Status: WARNINGS CheckDir: VariantAnnotation.Rcheck Warnings: 2