Package: VariantAnnotation Version: 1.53.1 Command: E:\biocbuild\bbs-3.21-bioc\R\bin\R.exe CMD INSTALL VariantAnnotation StartedAt: 2025-02-04 16:02:50 -0500 (Tue, 04 Feb 2025) EndedAt: 2025-02-04 16:08:34 -0500 (Tue, 04 Feb 2025) EllapsedTime: 344.2 seconds RetCode: 0 Status: OK